{
 "currentVersion": 10.91,
 "serviceDescription": "Sokone/sokone_panmerge_ms",
 "name": "Sokone/sokone_panmerge_ms",
 "description": "",
 "extent": {
  "xmin": 349820,
  "ymin": 1524766,
  "xmax": 359874,
  "ymax": 1534822,
  "spatialReference": {
   "wkid": 32628,
   "latestWkid": 32628
  }
 },
 "initialExtent": {
  "xmin": 349820,
  "ymin": 1524766,
  "xmax": 359874,
  "ymax": 1534822,
  "spatialReference": {
   "wkid": 32628,
   "latestWkid": 32628
  }
 },
 "fullExtent": {
  "xmin": 349820,
  "ymin": 1524766,
  "xmax": 359874,
  "ymax": 1534822,
  "spatialReference": {
   "wkid": 32628,
   "latestWkid": 32628
  }
 },
 "pixelSizeX": 0.5,
 "pixelSizeY": 0.5,
 "bandCount": 4,
 "pixelType": "U8",
 "minPixelSize": 0,
 "maxPixelSize": 0,
 "copyrightText": "",
 "serviceDataType": "esriImageServiceDataTypeGeneric",
 "minValues": [
  0,
  0,
  0,
  0
 ],
 "maxValues": [
  255,
  255,
  255,
  255
 ],
 "meanValues": [
  52.528335955114,
  63.274819143886,
  70.303603663724,
  74.618412382997
 ],
 "stdvValues": [
  7.5189772543265,
  10.172054670006,
  10.577821896811,
  11.17066052187
 ],
 "objectIdField": "",
 "fields": [],
 "capabilities": "Image,Metadata,Mensuration",
 "defaultMosaicMethod": "Center",
 "allowedMosaicMethods": "",
 "sortField": "",
 "sortValue": null,
 "sortAscending": true,
 "mosaicOperator": "First",
 "defaultCompressionQuality": 75,
 "defaultResamplingMethod": "Bilinear",
 "maxImageHeight": 4100,
 "maxImageWidth": 15000,
 "allowRasterFunction": true,
 "rasterFunctionInfos": [
  {
   "name": "None",
   "description": "",
   "help": ""
  }
 ],
 "rasterTypeInfos": [
  {
   "name": "Raster Dataset",
   "description": "Supports all ArcGIS Raster Datasets",
   "help": ""
  }
 ],
 "mensurationCapabilities": "Basic",
 "hasHistograms": true,
 "hasColormap": false,
 "hasRasterAttributeTable": false,
 "minScale": 0,
 "maxScale": 0,
 "exportTilesAllowed": false,
 "hasMultidimensions": false,
 "supportsStatistics": false,
 "supportsAdvancedQueries": false,
 "editFieldsInfo": null,
 "ownershipBasedAccessControlForRasters": null,
 "allowComputeTiePoints": false,
 "useStandardizedQueries": true,
 "advancedQueryCapabilities": {
  "useStandardizedQueries": true,
  "supportsStatistics": false,
  "supportsOrderBy": false,
  "supportsDistinct": false,
  "supportsPagination": false
 },
 "spatialReference": {
  "wkid": 32628,
  "latestWkid": 32628
 }
}
