View In:
ArcGIS JavaScript
ArcGIS Online Map Viewer
ArcGIS Earth
ArcMap
View Footprint In:
ArcGIS Online Map Viewer
Service Description: Sokone/sokone_panmerge_ms
Name: Sokone/sokone_panmerge_ms
Description:
Single Fused Map Cache: false
Extent:
XMin: 349820.0
YMin: 1524766.0
XMax: 359874.0
YMax: 1534822.0
Spatial Reference: 32628
(32628)
LatestVCSWkid(0)
Initial Extent:
XMin: 349820.0
YMin: 1524766.0
XMax: 359874.0
YMax: 1534822.0
Spatial Reference: 32628
(32628)
LatestVCSWkid(0)
Full Extent:
XMin: 349820.0
YMin: 1524766.0
XMax: 359874.0
YMax: 1534822.0
Spatial Reference: 32628
(32628)
LatestVCSWkid(0)
Pixel Size X: 0.5
Pixel Size Y: 0.5
Band Count: 4
Pixel Type: U8
RasterFunction Infos: {"rasterFunctionInfos": [{
"name": "None",
"description": "",
"help": ""
}]}
Mensuration Capabilities: Basic
Has Histograms: true
Has Colormap: false
Has Multi Dimensions : false
Rendering Rule:
Min Scale: 0
Max Scale: 0
Copyright Text:
Service Data Type: esriImageServiceDataTypeGeneric
Min Values: 0, 0, 0, 0
Max Values: 255, 255, 255, 255
Mean Values: 52.528335955114, 63.274819143886, 70.303603663724, 74.618412382997
Standard Deviation Values: 7.5189772543265, 10.172054670006, 10.577821896811, 11.17066052187
Object ID Field:
Fields:
None
Default Mosaic Method: Center
Allowed Mosaic Methods:
SortField:
SortValue: null
Mosaic Operator: First
Default Compression Quality: 75
Default Resampling Method: Bilinear
Max Record Count: null
Max Image Height: 4100
Max Image Width: 15000
Max Download Image Count: null
Max Mosaic Image Count: null
Allow Raster Function: true
Allow Copy: null
Allow Analysis: null
Allow Compute TiePoints: false
Supports Statistics: false
Supports Advanced Queries: false
Use StandardizedQueries: true
Raster Type Infos:
Name: Raster Dataset
Description: Supports all ArcGIS Raster Datasets
Help:
Has Raster Attribute Table: false
Edit Fields Info: null
Ownership Based AccessControl For Rasters: null
Child Resources:
Info
Histograms
Key Properties
Legend
Raster Function Infos
Supported Operations:
Export Image
Identify
Measure
Compute Histograms
Compute Statistics Histograms
Get Samples
Compute Class Statistics
Query Boundary
Compute Pixel Location
Compute Angles
Validate
Project